BEGIN:VCALENDAR
VERSION:2.0
PRODID:https://github.com/derhansen/sf_event_mgt
METHOD:PUBLISH
BEGIN:VEVENT
UID:1355-2179@www.ukr.de
CLASS: PUBLIC
SUMMARY:EEG-Bootcamp
DESCRIPTION:Liebe Kolleginnen und Kollegen,\n\n\n\nwir freuen uns Sie zum e
 rsten „EEG – Bootcamp“ in der Anästhesie in Regensburg einladen zu 
 dürfen. Die Veranstaltung findet in Zusammenarbeit mit der Safe Brain Ini
 tiative (SBI) statt.\n\nMit der zunehmenden Verbreitung von Geräten zum E
 EG-Monitoring steht uns an immer mehr Orten ein modernes Verfahren zur Ste
 uerung der Narkosetiefe zur Verfügung. Damit sind wir in der Lage, den in
 dividuellen Narkosemittelbedarf genauer einzuschätzen und damit sowohl Un
 ter- als auch Überdosierungen zu vermeiden. Durch eine optimierte Narkose
 führung können so negative Folgen wie intraoperative Awareness oder das 
 postoperative Delir reduziert werden. Allerdings kann jedes Gerät nur so 
 gut sein wie seine Anwender*innen!\n\nIn diesem Kurs erhalten Sie eine an 
 der Praxis orientierte Einführung in die Anwendung von EEG-Monitoring in 
 der Anästhesie.\n\n\n\nWir freuen uns Sie am Samstag, den 16. Mai 2026 hi
 er bei uns am UKR begrüßen zu dürfen.\n\nDr. Kerstin Brückner\n\nProf.
  Dr. Bernhard M. Graf, MSc\n\n\n\nOrt: UKR, kleiner Hörsaal (Haupteingang
 , 1.OG)\n\nTeilnahmegebühr: 100 € (1 Kurstag, 9.00 bis 17.30 Uhr)\n\nZi
 elgruppe: Anästhesist*innen und alle EEG-Interessierte
LOCATION:UKR, Kleiner Hörsaal (A1, 1.OG)
DTSTAMP:20260417T085958Z
DTSTART:20260516T070000Z
DTEND:20260516T150000Z
END:VEVENT
END:VCALENDAR