BEGIN:VCALENDAR
VERSION:2.0
PRODID:https://github.com/derhansen/sf_event_mgt
METHOD:PUBLISH
BEGIN:VEVENT
UID:1362-2156@www.ukr.de
CLASS: PUBLIC
SUMMARY:2. Praxisanleiter Workshop (Catch them - now you can)
DESCRIPTION:Durch praktische Übungen sollen mit Spaß die Ausbildungsinhal
 te an den jeweiligen Einsatzstellen vermittelt werden. Einen Schwerpunkt b
 ildet die praktische Übung der Anleitung unter Berücksichtigung der Tüc
 ken und der möglichen Herausforderungen. Damit sollen die Teilnehmer in d
 ie Lage versetzt werden mit den Mitteln und Ressourcen an den Einsatzstell
 en die Inhalte praktisch an die Azubis zu vermitteln.
DTSTAMP:20260313T072016Z
DTSTART:20261120T083000Z
DTEND:20261122T093000Z
END:VEVENT
END:VCALENDAR