BEGIN:VCALENDAR
VERSION:2.0
PRODID:https://github.com/derhansen/sf_event_mgt
METHOD:PUBLISH
BEGIN:VEVENT
UID:1252-2155@www.ukr.de
CLASS: PUBLIC
SUMMARY:Basiskurs Palliativmedizin
DESCRIPTION:Im Fokus unserer Weiterbildung steht vor allem die palliative B
 asisversorgung, die Sie als Mediziner jeden Tag erbringen. Wir bezeichnen 
 diesen wichtigen Baustein der Regelversorgung für die Behandlung unserer 
 schwerkranken Patienten auch als allgemeine Palliativversorgung.\n\n In un
 serer Weiterbildung werden palliative Schwerpunktthemen aus der multiprofe
 ssionellen Perspektive vorgestellt und durch die Erfahrung und Kenntnisse 
 der jeweiligen Profession in den verschiedenen Praxisbezügen beleuchtet.\
 n\n Der interkollegiale Dialog und die gemeinsame Reflexion schwieriger Be
 handlungssituationen sind wichtige Bausteine dieser Weiterbildung.\n\n Der
  ganzheitliche Betreuungsansatz palliativer Versorgung braucht einen inter
 - und multiprofessionellen Austausch und eine enge Absprache aller in der 
 Behandlung und Begleitung von Patient und Angehörigen engagierten Akteure
 n.\n\n Wir freuen uns auf Sie und möchten Sie bei dieser nicht immer einf
 achen Herausforderung im Alltag unterstützen, indem wir Ihnen ein facette
 nreiches Behandlungskonzept an die Hand geben!\n\n\n\nTeilnahmegebühr: 81
 0,00 €\n\n Anmeldung und Kontakt: Zentrum für Palliativmedizin palliati
 vmedizin@ukr.de  \n\nDas Anmeldeformular sowie weitere Informationen find
 en Sie im Veranstaltungsflyer.
DTSTAMP:20260212T094857Z
DTSTART:20260928T063000Z
DTEND:20261002T110000Z
END:VEVENT
END:VCALENDAR