BEGIN:VCALENDAR
VERSION:2.0
PRODID:https://github.com/derhansen/sf_event_mgt
METHOD:PUBLISH
BEGIN:VEVENT
UID:1294-2154@www.ukr.de
CLASS: PUBLIC
SUMMARY:Zentrum Palliativmedizin: Betreuung von Menschen mit Demenz und Delir auf der Palliativmedizin
DESCRIPTION:Viele schwerstkranke und sterbende Menschen werden im Rahmen de
 r allgemeinen Palliativversorgung im Krankenhaus medizinisch und pflegeris
 ch versorgt. Die Symptome und Bedürfnisse sind oft sehr komplex. Die Pfle
 gekräfte mit und ohne Weiterbildung Palliative Care nehmen hierbei in der
  ganzheitlichen Versorgung eine sehr wichtige Rolle ein. Die Fortbildungsr
 eihe Palliative Care hat das Ziel, theoretische Inhalte, sowie praktische 
 Möglichkeiten im stationären Alltag zur palliativpflegerischen Versorgun
 g und dem Umgang mit schwerstkranken und sterbenden Menschen im Krankenhau
 s zu vermitteln.\n\nZielgruppe:\n\nPalliative Care Pflegekräfte und alle 
 interessierten Pflegekräfte von Allgemein- und Intensivstation\n\nKosten:
 \n\nKeine\n\nTermin:\n\n05.05.2026 14:15 – 15:15
DTSTAMP:20251001T075949Z
DTSTART:20260505T121500Z
DTEND:20260505T131500Z
END:VEVENT
END:VCALENDAR