BEGIN:VCALENDAR
VERSION:2.0
PRODID:https://github.com/derhansen/sf_event_mgt
METHOD:PUBLISH
BEGIN:VEVENT
UID:1308-2154@www.ukr.de
CLASS: PUBLIC
SUMMARY:Die Leichtigkeit des Seins - Von der Kraft des Humors
DESCRIPTION:„Humor ist der Knopf, der verhindert, dass einem der Kragen p
 latzt.“ In diesem Seminar erfahren Sie, wie mit Humor die Gedanken, die 
 Psyche und der Körper positiv beeinflusst werden. Sie fördern Ihre Begab
 ung den alltäglichen Schwierigkeiten und menschlichen wie weltlichen Unzu
 länglichkeiten mit heiterer Gelassenheit zu begegnen. Angewendete Humorte
 chniken tragen dazu bei, hausfordernden Situationen leichter und kreativer
  zu begegnen. Dadurch helfen Sie, zum Beispiel einem Team und deren Mitgli
 edern als Teamleitung oder auch als Teammitglied aus dem bekannten Jammert
 al emporzusteigen, um wieder mehr den Fokus auf das Gelingende zu richten.
  Der neu gewonnene Blickwinkel wirkt sich positiv auf die Beziehungsgestal
 tung und die Teamentwicklung aus.\n\n\n\nZielgruppe:\n\nAlle Mitarbeiter d
 es UKR\n\n\n\nKosten:\n\nKeine (Mitarbeiter UKR)\n\n150,- Euro (externe Te
 ilnehmer)\n\n\n\nTermine:\n\n29.09.26  08:30 – 16:00 Uhr
LOCATION:UKR, Seminarräume
DTSTAMP:20251104T092117Z
DTSTART:20260929T063000Z
DTEND:20260929T140000Z
END:VEVENT
END:VCALENDAR