BEGIN:VCALENDAR
VERSION:2.0
PRODID:https://github.com/derhansen/sf_event_mgt
METHOD:PUBLISH
BEGIN:VEVENT
UID:1320-2154@www.ukr.de
CLASS: PUBLIC
SUMMARY:STORNO - Fake News im Netz erkennen und verstehen
DESCRIPTION:Gezielte Desinformationen – sogenannte Fake News – verbre
 iten sich heute rasant über das Internet und soziale Netzwerke.\n\nSie be
 einflussen Meinungen, schüren Unsicherheit und können das Vertrauen in M
 edien und Institutionen erschüttern.\n\nIn diesem Vortrag erhalten Sie ei
 nen fundierten Einblick in:\n\n• die Hintergründe und Absichten von Fak
 e News,  \n\n• die Gefahren und Risiken, die von ihnen ausgehen,  \n
 \n• praktische Tipps, wie Sie Falschmeldungen im Netz zuverlässig erken
 nen können. \n\nAuch aktuelle Entwicklungen; etwa durch den Einsatz von 
 Künstlicher Intelligenz; werden beleuchtet.\n\nDer Vortrag stärkt Ihre M
 edienkompetenz und sensibilisiert für Manipulationsstrategien im digitale
 n Raum.\n\n\n\nZielgruppe:\n\nAlle Mitarbeiter des UKR\n\n\n\nKosten:\n\nK
 eine\n\n\n\n
DTSTAMP:20260324T102724Z
DTSTART:20260429T160000Z
DTEND:20260429T180000Z
END:VEVENT
END:VCALENDAR