BEGIN:VCALENDAR
VERSION:2.0
PRODID:https://github.com/derhansen/sf_event_mgt
METHOD:PUBLISH
BEGIN:VEVENT
UID:1377-2179@www.ukr.de
CLASS: PUBLIC
SUMMARY:Herzwochen 2026
DESCRIPTION:
LOCATION:UKR, Großer Hörsaal (A, 1.OG)
DTSTAMP:20260420T075556Z
DTSTART:20261119T163000Z
DTEND:20261119T180000Z
END:VEVENT
END:VCALENDAR