BEGIN:VCALENDAR
VERSION:2.0
PRODID:https://github.com/derhansen/sf_event_mgt
METHOD:PUBLISH
BEGIN:VEVENT
UID:1342-2179@www.ukr.de
CLASS: PUBLIC
SUMMARY:3. Regensburger interdisziplinärer Kurs für Erkrankungen der Schilddrüse und Nebenschilddrüse
DESCRIPTION:Veranstalter / Wissenschaftliche Leitung Prof. Dr. Christopher 
 Bohr Prof. Dr. Dirk Hellwig Dr. Melanie Kandulski Prof. Dr. Hans-Jürgen S
 chlitt Fachliche Leitung Dr. Melanie Kandulski Klinikdirektorin Prof. Dr. 
 Dr. h.c. Martina Müller-Schilling Klinik und Poliklinik für Innere Mediz
 in I Universitätsklinikum Regensburg DEGUM Kursleiter Kopf/Hals Sektion P
 rof. Dr. Julian Künzel Klinik und Poliklinik für Hals-Nasen-Ohren-Heilku
 nde Universitätsklinikum Regensburg\n\n Veranstaltungsort Universitätskl
 inikum Regensburg Großer Hörsaal (Haupteingang, 1. OG) Franz-Josef-Strau
 ß-Allee 11 93053 Regensburg\n\n Kontakt Julia Krutsch T: 0941 944-11627 j
 .krutsch@ukr.de\n\nTeilnahmegebühr Kombiticket (beide Tage incl. Gesellsc
 haftsabend, DEGUM-Plakette und Kursmaterial) 450 EUR Einzelticket 1. Kurst
 ag 100 EUR Wichtig für den 2. Kurstag: Die Plätze im praktischen Kurstei
 l sind auf 30 Teilnehmende KV-konform (5:1) limitiert. Eine Zertifizierung
  bei der Landesärztekammer wird beantragt.
LOCATION:UKR, Großer Hörsaal (A, 1.OG)
DTSTAMP:20260216T134242Z
DTSTART:20260619T063000Z
DTEND:20260620T145000Z
END:VEVENT
END:VCALENDAR