BEGIN:VCALENDAR
VERSION:2.0
PRODID:https://github.com/derhansen/sf_event_mgt
METHOD:PUBLISH
BEGIN:VEVENT
UID:1289-2154@www.ukr.de
CLASS: PUBLIC
SUMMARY:Hygienebeauftragte in der Pflege (Link Nurse)
DESCRIPTION:Hygienebeauftragte in der Pflege sind Bindeglied zwischen Pfleg
 epersonal und Hygiene. Sie wirken bei der  Erstellung und Umsetzung berei
 chsspezifischer Hygienestandards mit und vermitteln korrekte Hygiene-prakt
 iken in Ihrem Arbeitsbereich. Sie sind verantwortlich, Ausbrüche oder Inf
 ektionen frühzeitig wahrzunehmen und entsprechende Informationen an die K
 rankenhaushygiene weiterzugeben. Zudem helfen sie bei der organisatorische
 n Bewältigung der erforderlichen Maßnahmen. Die Fortbildung vermittelt d
 ie für diese Aufgaben notwendigen Fachkenntnisse.\n\n\n\nZielgruppe\n\nPf
 legefachkräfte\n\n\n\nTermine\n\n23.09. – 24.09.2026\n\n\n\nKosten\n\nA
 uf Anfrage (Mitarbeiter UKR)\n\n320,- Euro (externe Teilnehmer)\n\n\n\n
DTSTAMP:20251001T081346Z
DTSTART:20260922T220000Z
DTEND:20260923T220000Z
END:VEVENT
END:VCALENDAR