BEGIN:VCALENDAR
VERSION:2.0
PRODID:https://github.com/derhansen/sf_event_mgt
METHOD:PUBLISH
BEGIN:VEVENT
UID:1291-2154@www.ukr.de
CLASS: PUBLIC
SUMMARY:Hygienebeauftragte/r Arzt/Ã„rztin
DESCRIPTION:Die Fortbildung zum/zur Hygienebeauftragten/r Arzt/Ã„rztin umfa
 sst 40 UE und berÃ¼cksichtigt alle relevanten Themen rund um die Krankenha
 ushygiene und InfektionsprÃ¤vention. Der Kurs entspricht den inhaltlichenÂ
   Vorgaben der entsprechenden Richtlinie der BundesÃ¤rztekammer (Modul 1) 
 und erfÃ¼llt damit dieÂ  Anforderungen aus der MedHygV an die Ausbildungsp
 flicht fÃ¼r Ã„rzte, die als Hygienebeauftragte in ihrenÂ  Einrichtungen sc
 hon tÃ¤tig sind bzw. tÃ¤tig werden sollen.\n\nZielgruppe:\n\nÃ„rzte\n\n\n\
 nKosten:Â  980,- Euro (externe Teilnehmer)Â (incl. Seminarverpflegung, und
  Zertifikat) 520,- Euro (interne Teilnehmer) (incl. Seminarverpflegung, un
 d Zertifikat)\n\n\n\nVeranstaltungsort\n\nKonferenzraum BioPark III BioPar
 k Regensburg GmbH Konferenzraum BioPark III Am BioPark 13 / BioPark III D 
 93053 Regensburg Â 
DTSTAMP:20260325T095227Z
DTSTART:20261004T220000Z
DTEND:20261008T220000Z
END:VEVENT
END:VCALENDAR