BEGIN:VCALENDAR
VERSION:2.0
PRODID:https://github.com/derhansen/sf_event_mgt
METHOD:PUBLISH
BEGIN:VEVENT
UID:1366-2492@www.ukr.de
CLASS: PUBLIC
SUMMARY:International  LIT Symposium 2026
DESCRIPTION:Our International LIT Symposium 2026 brings together top expert
 s to explore diverse facets of cellular therapies, offering cutting-edge i
 nsights and ample opportunity to debate and develop new ideas in a think-t
 ank setting. We look forward to welcoming you to the beautiful city of Reg
 ensburg for two exciting days!
DTSTAMP:20260318T120903Z
DTSTART:20260623T060000Z
DTEND:20260624T143000Z
END:VEVENT
END:VCALENDAR