BEGIN:VCALENDAR
VERSION:2.0
PRODID:https://github.com/derhansen/sf_event_mgt
METHOD:PUBLISH
BEGIN:VEVENT
UID:1315-2154@www.ukr.de
CLASS: PUBLIC
SUMMARY:Kommunikation mit kognitiv eingeschränkten Menschen
DESCRIPTION:Die Kommunikation mit kognitiv eingeschränkten Patienten stell
 t nicht nur während des Krankenhausaufenthaltes eine besondere Herausford
 erung dar. In dieser Fortbildung erlernen Sie praxisnah Strategien, die de
 n Zugang und die Kommunikation erleichtern, und Ihnen die Möglichkeit geb
 en, sich auf die Welt der Betroffenen einzustellen.\n\n Inhalte sind: Grun
 dwissen zu den einzelnen Krankheitsbildern, allgemeine Kommunikationstechn
 iken, Tipps und Türöffner im Umgang mit den Betroffenen, validierende Ge
 sprächstechniken und Prävention zur Konfliktvermeidung.\n\nZielgruppe:\n
 \nAlle Interessierten\n\n\n\nKosten\n\nKeine (Mitarbeiter UKR)\n\n150,- Eu
 ro (externe Teilnehmer)\n\n\n\nTermin:\n\n14.10.2026\n\n\n\nHinweis: Diese
  Veranstaltung wird mehrmals im Jahr angeboten.
DTSTAMP:20251104T092140Z
DTSTART:20261014T063000Z
DTEND:20261014T133000Z
END:VEVENT
END:VCALENDAR