BEGIN:VCALENDAR
VERSION:2.0
PRODID:https://github.com/derhansen/sf_event_mgt
METHOD:PUBLISH
BEGIN:VEVENT
UID:1359-2156@www.ukr.de
CLASS: PUBLIC
SUMMARY:Kontrastmittelsonographie CEUS  UPDATE 2026
DESCRIPTION:Im Rahmen des DEGUM-zertifizierten Kurses CEUS-Update werden Ih
 nen erfahrene Referierende einen tiefen Einblick in den aktuellen Stand CE
 US vermitteln und Ihnen einen Ausbau ihrer praktischen Fähigkeiten auf de
 m Gebiet ermöglichen.
DTSTAMP:20260313T070329Z
DTSTART:20261127T150000Z
DTEND:20261127T180000Z
END:VEVENT
END:VCALENDAR