BEGIN:VCALENDAR
VERSION:2.0
PRODID:https://github.com/derhansen/sf_event_mgt
METHOD:PUBLISH
BEGIN:VEVENT
UID:1286-2154@www.ukr.de
CLASS: PUBLIC
SUMMARY:MH Kinaesthetics® – The Original, Supervision für zertifizierte Anwender - Regiogruppentreffen Regensburg
DESCRIPTION:Für zertifizierte Anwender steht der organisationale Einsatz d
 er Werkzeuge von MH Kinaesthetics® im Vordergrund. Mitarbeiter, Patienten
  und weitere Personen werden von zertifizierten Anwendern bei der Umsetzun
 g des Konzepts in die Praxis unterstützt und begleitet. Die zweitägige S
 upervision dient der zielgerichteten Weiterentwicklung der Anwenderkompete
 nz. Unter fachkundiger Anleitung besteht die Möglichkeit, sich untereinan
 der auszutauschen, Anliegen zu klären und praktische Erfahrungen zu refle
 ktieren.\n\n\n\nZielgruppe:\n\nZertifizierte Anwender MH Kinaesthetics® i
 ntern, extern\n\nFachbereich Pflege und Infant Handling\n\n\n\nKosten:\n\n
 \n\nKeine Kosten (Mitarbeiter UKR)\n\n\n\nDer Anmeldeprozess für UKR Mita
 rbeiter ist gleichbleibend  (keine Anmeldung über die Online-Anmeldung n
 ötig)
DTSTAMP:20251218T071917Z
DTSTART:20261011T220000Z
DTEND:20261012T220000Z
END:VEVENT
END:VCALENDAR