BEGIN:VCALENDAR
VERSION:2.0
PRODID:https://github.com/derhansen/sf_event_mgt
METHOD:PUBLISH
BEGIN:VEVENT
UID:1283-2154@www.ukr.de
CLASS: PUBLIC
SUMMARY:MH Kinaesthetics® – The Original Zertifizierter Anwenderkurs
DESCRIPTION:Die Teilnehmer lernen, Begleitungsprozesse mit Patienten, Angeh
 örigen und Kollegen in der Praxis zu gestalten. Sie nutzen ihr Wissen und
  Können, um praxisrelevante Themen und Situationen in kleinen Gruppen ode
 r Teams zu bearbeiten. Der Zertifizierungskurs dient der Integration von M
 H Kinaesthetics® in den beruflichen Alltag und leistet einen wichtigen Be
 itrag zur Gesundheitsförderung. Der Anwenderkurs ist zudem ein erster Bau
 stein für diejenigen, die ins Trainerprogramm einsteigen wollen.\n\nZielg
 ruppe:\n\nPflegefachkräfte, Physiotherapeuten, medizinische Assistenzberu
 fe, Pflegefachhelfer, Ergotherapeuten, jeweils mit Grund- und Aufbaukurs\n
 \nKosten:\n\n1300,- Euro (externe Teilnehmer)\n\nTermine:\n\nModul 1/3: 14
 . – 15.12.2026 Modul 2/3: im Jahr 2027 Modul 3/3: im Jahr 2027
DTSTAMP:20250930T133039Z
DTSTART:20261213T230000Z
DTEND:20261214T230000Z
END:VEVENT
END:VCALENDAR