BEGIN:VCALENDAR
VERSION:2.0
PRODID:https://github.com/derhansen/sf_event_mgt
METHOD:PUBLISH
BEGIN:VEVENT
UID:1365-2179@www.ukr.de
CLASS: PUBLIC
SUMMARY:QaP-MFA-Kurs
DESCRIPTION:Tagungsort\n\nBezirksklinikum Regensburg medbo, Neuro-Reha, Hau
 s 24 1. Stock; Raum A2.07 Universitätsstraße 84 93053 Regensburg\n\nTerm
 in\n\n19. + 20.06.2026 Kurszeiten: Fr 9:00 - 17:45 Uhr Sa 9:00 - 18:00 Uhr
 \n\nKursgebühr: 300 € In der Kursgebühr ist enthalten: Kursunterlagen
 , Verpflegung vor Ort
DTSTAMP:20260327T105607Z
DTSTART:20260619T070000Z
DTEND:20260620T160000Z
END:VEVENT
END:VCALENDAR