BEGIN:VCALENDAR
VERSION:2.0
PRODID:https://github.com/derhansen/sf_event_mgt
METHOD:PUBLISH
BEGIN:VEVENT
UID:1338-2179@www.ukr.de
CLASS: PUBLIC
SUMMARY:Schlafmedizin QUO VADIS 2026
DESCRIPTION:Veranstalter / Wissenschaftliche Leitung Prof. Dr. Michael Arzt
  Prof. Dr. Lars Maier Klinik und Poliklinik für Innere Medizin II Univers
 itätsklinikum Regensburg\n\n Veranstaltungsort medbo Bezirksklinikum Rege
 nsburg Universitätsstraße 84 93053 Regensburg\n\n Teilnahmegebühr Tagun
 g 50 € Gesellschaftsabend 40 €\n\n Organisation KII Kongresse Universi
 tätsklinikum Regensburg T: 0941 944 11627 kongresse@ukr.de
LOCATION:medbo Bezirksklinikum, Haus 8, Hörsaal
DTSTAMP:20260417T085841Z
DTSTART:20260612T113000Z
DTEND:20260613T110000Z
END:VEVENT
END:VCALENDAR