BEGIN:VCALENDAR
VERSION:2.0
PRODID:https://github.com/derhansen/sf_event_mgt
METHOD:PUBLISH
BEGIN:VEVENT
UID:1361-2156@www.ukr.de
CLASS: PUBLIC
SUMMARY:Themen Tage Praxisanleiter 2026
DESCRIPTION:Seit dem neuen MT-Gesetz ist eine berufspädagogische Fort- und
  Weiterbildung von 24 Stunden pro Jahr verpflichtend. Um diese Vorgabe zu 
 erfüllen, bieten wir in diesem Jahr vier Tage mit jeweils 8 Praxisanleite
 r Stunden in unserem Institut an.
DTSTAMP:20260313T071546Z
DTSTART:20261123T080000Z
DTEND:20261126T150000Z
END:VEVENT
END:VCALENDAR