BEGIN:VCALENDAR
VERSION:2.0
PRODID:https://github.com/derhansen/sf_event_mgt
METHOD:PUBLISH
BEGIN:VEVENT
UID:1352-2179@www.ukr.de
CLASS: PUBLIC
SUMMARY:Welthirntumortag 2026
DESCRIPTION:Veranstalter / Wissenschaftliche Leitung Prof. Dr. Peter Hau Le
 iter Wilhelm Sander-Therapieeinheit NeuroOnkologie Klinik und Poliklinik f
 ür Neurologie Universitätsklinikum Regensburg Prof. Dr. Nils Ole Schmidt
  Direktor der Klinik und Poliklinik für Neurochirurgie Universitätsklini
 kum Regensburg\n\n Veranstaltungsort Universitätsklinikum Regensburg Klei
 ner Hörsaal (Haupteingang, 1. OG) Franz-Josef-Strauß-Allee 11 93053 Rege
 nsburg\n\n Organisation Universitätsklinikum Regensburg K II Kongresse T:
  0941 944-11627 F: 0941 944-31647 kongresse@ukr.de
LOCATION:UKR, Kleiner Hörsaal (A1, 1.OG)
DTSTAMP:20260304T105622Z
DTSTART:20260620T080000Z
DTEND:20260620T100000Z
END:VEVENT
END:VCALENDAR