BEGIN:VCALENDAR
VERSION:2.0
PRODID:https://github.com/derhansen/sf_event_mgt
METHOD:PUBLISH
BEGIN:VEVENT
UID:1354-2179@www.ukr.de
CLASS: PUBLIC
SUMMARY:Regensburger Hörtag 2026
DESCRIPTION:Veranstalter Prof. Dr. Christopher Bohr Klinik und Poliklinik f
 ür Hals-Nasen-Ohren-Heilkunde Universitätsklinikum Regensburg\n\n Termin
  04. Juli 2026, 09:00 - 19:00 Uhr\n\n Veranstaltungsort Universitätsklini
 kum Regensburg Großer Hörsaal (Haupteingang, 1. OG) Franz-Josef-Strauß-
 Allee 11 93053 Regensburg\n\n Organisation K II Kongresse Universitätskli
 nikum Regensburg T: 0941 944-11630 kongresse@ukr.de
LOCATION:UKR, Großer Hörsaal (A, 1.OG)
DTSTAMP:20260304T104447Z
DTSTART:20260704T070000Z
DTEND:20260704T170000Z
END:VEVENT
END:VCALENDAR