BEGIN:VCALENDAR
VERSION:2.0
PRODID:https://github.com/derhansen/sf_event_mgt
METHOD:PUBLISH
BEGIN:VEVENT
UID:502-2179@www.ukr.de
CLASS: PUBLIC
SUMMARY:1. Regensburger interdisziplinäres Symposium für Erkrankungen der Schild- und Nebenschilddrüse
DESCRIPTION:Veranstalter / Wissenschaftliche Leitung Prof. Dr. Christopher 
 Bohr Prof. Dr. Dirk Hellwig Prof. Dr. Martina Müller-Schilling Prof. Dr. 
 Hans-Jürgen Schlitt Fachliche Leitung/DEGUM Kursleiter Dr. René Fischer,
  Prof. Dr. Julian Künzel Klinik und Poliklinik für Hals-Nasen-Ohren-Heil
 kunde Universitätsklinikum Regensburg\n\n Veranstaltungsort Universitäts
 klinikum Regensburg Großer Hörsaal (Haupteingang, 1. OG) Franz-Josef-Str
 auß-Allee 11 93053 Regensburg\n\n Kontakt Birgit Scheungrab T: 0941 944-9
 480 birgit.scheungrab@ukr.de
LOCATION:UKR, Großer Hörsaal (A, 1.OG)
DTSTAMP:20241125T091624Z
DTSTART:20240614T063000Z
DTEND:20240615T140000Z
END:VEVENT
END:VCALENDAR