BEGIN:VCALENDAR
VERSION:2.0
PRODID:https://github.com/derhansen/sf_event_mgt
METHOD:PUBLISH
BEGIN:VEVENT
UID:1234-2179@www.ukr.de
CLASS: PUBLIC
SUMMARY:Hybrid - 10. Regensburger Medizinethik-Tag
DESCRIPTION:„Künstliche Intelligenz – nur Maschine oder doch mehr?“\
 n\nVeranstalter Klinisches Ethikkomitee Universitätsklinikum Regensburg\n
 \n Wissenschaftliche Leitung\n\nProf. Dr. W. Schierling, Dr. M. Rechenmac
 her,\n\nKlinisches Ethikkomitee\n\nUniversitätsklinikum Regensburg\n\n Ve
 ranstaltungsort Universitätsklinikum Regensburg Hörsaal A2 (Eingang West
 ) Franz-Josef-Strauß-Allee 11 93053 Regensburg\n\n Organisation Universit
 ätsklinikum Regensburg K II Kongresse T: 0941 944-11630 F: 0941 944-31647
  kongresse@ukr.de
LOCATION:UKR, Hörsaal A2 (A2, EG)
DTSTAMP:20251115T073503Z
DTSTART:20251115T080000Z
DTEND:20251115T140000Z
END:VEVENT
END:VCALENDAR