BEGIN:VCALENDAR
VERSION:2.0
PRODID:https://github.com/derhansen/sf_event_mgt
METHOD:PUBLISH
BEGIN:VEVENT
UID:1237-2486@www.ukr.de
CLASS: PUBLIC
SUMMARY:11th Adult ECMO Training Course Regensburg 2025
DESCRIPTION:
LOCATION:UKR, Hörsaal A2 (A2, EG)
DTSTAMP:20250507T050830Z
DTSTART:20250915T060000Z
DTEND:20250919T130000Z
END:VEVENT
END:VCALENDAR