BEGIN:VCALENDAR
VERSION:2.0
PRODID:https://github.com/derhansen/sf_event_mgt
METHOD:PUBLISH
BEGIN:VEVENT
UID:1307-2154@www.ukr.de
CLASS: PUBLIC
SUMMARY:Berufsleben als "Best Ager" meistern
DESCRIPTION:Womöglich erkennen Sie sich: Sie sind dem UKR seit Jahren verb
 unden, haben vieles mitgestaltet und -erlebt, besitzen fachlich jede Menge
  Erfahrung. Das Älterwerden im Beruf und im Leben bringt viele Herausford
 erungen mit sich, welche es zu meistern gilt. Doch aus Herausforderungen w
 erden Erfahrungen, die Ihnen keiner mehr nehmen kann. Und zurecht: was wä
 ren Gesundheitsunternehmen ohne ihre routinierten, erfahrenen Mitarbeitend
 en „50 plus“ ? Lassen Sie uns gemeinsam den Prozess des Älterwerdens 
 betrachten und herausfinden, welche Chancen die Zukunft für Sie bereithä
 lt.\n\n\n\nZielgruppe\n\nAlle Mitarbeiter UKR\n\n\n\nKosten:\n\nKeine (Mit
 arbeiter UKR)\n\n150,- Euro  (externe Teilnehmer)
DTSTAMP:20251104T092023Z
DTSTART:20261007T063000Z
DTEND:20261007T140000Z
END:VEVENT
END:VCALENDAR