BEGIN:VCALENDAR
VERSION:2.0
PRODID:https://github.com/derhansen/sf_event_mgt
METHOD:PUBLISH
BEGIN:VEVENT
UID:528-2179@www.ukr.de
CLASS: PUBLIC
SUMMARY:4. Case-Management-Symposium
DESCRIPTION:Veranstaltungsort \n\nUniversitätsklinikum Regensburg Hörsaal
  A2 (Eingang West)\n\nFranz-Josef-Strauß-Allee 11\n\n93053 Regensburg\n\n
 \n\nOrganisation\n\nK II Kongresse\n\nUniversitätsklinikum Regensburg\n\n
 T: 0941 944-11630\n\n\n\nKosten\n\nTeilnehmergebühr inkl. Verpflegung 60,
 00€
LOCATION:UKR, Hörsaal A2 (A2, EG)
DTSTAMP:20241022T121155Z
DTSTART:20241123T081500Z
DTEND:20241123T133000Z
END:VEVENT
END:VCALENDAR