BEGIN:VCALENDAR
VERSION:2.0
PRODID:https://github.com/derhansen/sf_event_mgt
METHOD:PUBLISH
BEGIN:VEVENT
UID:475-2154@www.ukr.de
CLASS: PUBLIC
SUMMARY:Die Rolle der Pflegekraft bei sterbenden Menschen im Krankenhaus
DESCRIPTION:Viele schwerstkranke und sterbende Menschen werden im Rahmen de
 r allgemeinen Palliativversorgung im Krankenhaus medizinisch und pflegeris
 ch versorgt. Die Symptome und Bedürfnisse sind oft sehr komplex. Die Pfle
 gekräfte mit und ohne Weiterbildung Palliative Care nehmen hierbei in der
  ganzheitlichen Versorgung eine sehr wichtige Rolle ein. Die Fortbildungsr
 eihe Palliative Care hat das Ziel, theoretische Inhalte, sowie praktische 
 Möglichkeiten im stationären Alltag zur palliativpflegerischen Versorgun
 g und dem Umgang mit schwerstkranken und sterbenden Menschen im Krankenhau
 s zu vermitteln.\n\n\n\n\n\nZielgruppe:\n\nPalliative Care Pflegekräfte u
 nd alle interessierten Pflegekräfte von Allgemein- und Intensivstation de
 s UKR
LOCATION:UKR, Seminarräume
DTSTAMP:20240110T080218Z
DTSTART:20240213T133000Z
DTEND:20240213T143000Z
END:VEVENT
END:VCALENDAR