BEGIN:VCALENDAR
VERSION:2.0
PRODID:https://github.com/derhansen/sf_event_mgt
METHOD:PUBLISH
BEGIN:VEVENT
UID:215-2348@www.ukr.de
CLASS: PUBLIC
SUMMARY:FESS in Regensburg – 8. Kurs für Nasennebenhöhlenchirurgie
DESCRIPTION:Nach mehreren Jahren Pause infolge der Corona-Pandemie freuen w
 ir uns sehr, Sie im April 2023 wieder zum 8. Kurs für Nasennebenhöhlench
 irurgie in Regensburg begrüßen zu dürfen. Nähere Informationen zum Abl
 auf, den beteiligten Referenten sowie dem Anmeldeprozess entnehmen Sie bit
 te dem Flyer. Bei Nachfragen zögern Sie nicht sich an uns zu wenden.\n\n\
 n\nKontakt: E-Mail: birgit.scheungrab@ukr.de Tel.: 0941 944-9480
DTSTAMP:20230111T080734Z
DTSTART:20230417T070000Z
DTEND:20230418T153000Z
END:VEVENT
END:VCALENDAR