BEGIN:VCALENDAR
VERSION:2.0
PRODID:https://github.com/derhansen/sf_event_mgt
METHOD:PUBLISH
BEGIN:VEVENT
UID:1299-2154@www.ukr.de
CLASS: PUBLIC
SUMMARY:Gesund leistungsfähig bleiben – mit Selbstcoaching
DESCRIPTION:Mal ist es eine quantitative Anforderung, die Sie zeitlich in d
 ie Enge treibt, mal sind es vielleicht "beratungsresistente" Lernende, die
  Ihre mentale Belastbarkeit strapazieren. Da alles, was uns widerfährt - 
 sowohl die Erfolgserlebnisse, als auch die Wachstumspotenziale - immer auc
 h mit uns, unseren Prägungen und Mustern, Fähigkeiten und Fehlbarkeiten 
 zu tun haben, ist es sinnvoll, sich für alle Fälle nützliches Handwerks
 zeug zurechtzulegen. Mit den Selbstcoaching-Tools, die Sie in diesem Works
 hop kennen und anwenden lernen, sind Sie als Manager Ihrer (beruflichen) G
 eschicke ganzheitlich gut gerüstet. Und als Praxisanleiter Vorbild für a
 ndere. Und als Praxisanleiter Vorbild für andere. Die Teilnahme kann auf 
 die jährliche geltende Verpflichtung zu 24 Stunden berufspädagogischer F
 ortbildung für Praxisanleiter angerechnet werden.\n\n\n\nZielgruppe:\n\nP
 raxisanleiter/ Mentoren\n\n\n\nKosten:\n\nKeine (Mitarbeiter UKR)\n\n150,-
  Euro  (externe Teilnehmer)\n\n\n\nTermine:\n\n20.07.2026\n\n08:30 – 16
 :00 Uhr
LOCATION:UKR, Seminarräume
DTSTAMP:20251104T091606Z
DTSTART:20260720T063000Z
DTEND:20260720T140000Z
END:VEVENT
END:VCALENDAR