BEGIN:VCALENDAR
VERSION:2.0
PRODID:https://github.com/derhansen/sf_event_mgt
METHOD:PUBLISH
BEGIN:VEVENT
UID:485-2179@www.ukr.de
CLASS: PUBLIC
SUMMARY:IAG KHT Frühjahrssymposium 2024
DESCRIPTION:Wissenschaftliche Leitung Prof. Dr. Christopher Bohr Klinik und
  Poliklinik für Hals-Nasen-Ohren-Heilkunde Universitätsklinikum Regensbu
 rg Prof. Dr. Andreas Dietz Sprecher der IAG-KHT Klinik und Poliklinik für
  Hals-, Nasen-, Ohren-Heilkunde Universitätsklinikum Leipzig Prof. Dr. Dr
 . Torsten E. Reichert Klinik und Poliklinik für Mund-, Kiefer- und Gesich
 tschirurgie Universitätsklinikum Regensburg\n\n\n\n Planung und Programm 
 Prof Dr. Julian Künzel Klinik und Poliklinik für Hals-Nasen-Ohren-Heilku
 nde Universitätsklinikum Regensburg\n\n\n\n Veranstaltungsort Universitä
 tsklinikum Regensburg Großer Hörsaal (Haupteingang, 1. OG) Franz-Josef-S
 trauß-Allee 11 93053 Regensburg
LOCATION:UKR, Großer Hörsaal (A, 1.OG)
DTSTAMP:20240318T094239Z
DTSTART:20240417T080000Z
DTEND:20240417T133000Z
END:VEVENT
END:VCALENDAR