BEGIN:VCALENDAR
VERSION:2.0
PRODID:https://github.com/derhansen/sf_event_mgt
METHOD:PUBLISH
BEGIN:VEVENT
UID:1300-2154@www.ukr.de
CLASS: PUBLIC
SUMMARY:In der Rolle als Praxisanleiter handeln
DESCRIPTION:Um im beruflichen Bildungssystem in der Schlüsselfunktion agie
 ren zu können, müssen sich Praxisanleiter neben den pädagogischen Aspek
 ten von Anleitung mit vielfältigen Erwartungen und Anforderungen untersch
 iedlicher Seiten (z.B. Auszubildende, Weiterbildungsteilnehmer, Team, Schu
 le, Arbeitgeber) auseinandersetzen. Im Workshop werden Hintergründe beleu
 chtet und berufliche Herausforderungen wie Inter- und Intrarollenkonflikte
  bearbeitet, um lernförderliche Beziehungen und Situationen gestalten zu 
 können. Die Teilnahme kann auf die jährliche geltende Verpflichtung zu 2
 4 Stunden berufspädagogischer Fortbildung für Praxisanleiter angerechnet
  werden.\n\n\n\nZielgruppe\n\nPraxisanleiter/ Mentoren\n\n\n\nKosten\n\nKe
 ine (Mitarbeiter UKR)\n\n150,- Euro (externe Teilnehmer)\n\n\n\nTermin:\n\
 n05.10.2026, 08:30 – 16:00 Uhr
DTSTAMP:20251104T091631Z
DTSTART:20261005T063000Z
DTEND:20261005T140000Z
END:VEVENT
END:VCALENDAR