BEGIN:VCALENDAR
VERSION:2.0
PRODID:https://github.com/derhansen/sf_event_mgt
METHOD:PUBLISH
BEGIN:VEVENT
UID:245-2179@www.ukr.de
CLASS: PUBLIC
SUMMARY:Intensivmedizin 2023
DESCRIPTION:Veranstaltungsort Universitätsklinikum Regensburg Großer Hör
 saal (Haupteingang) Franz-Josef-Strauß-Allee 11 93053 Regensburg  Organis
 ation KII Kongresse Universitätsklinikum Regensburg T: 0941 944-11628
LOCATION:UKR, Großer Hörsaal (A, 1.OG)
DTSTAMP:20230714T045535Z
DTSTART:20230713T140000Z
DTEND:20230715T124500Z
END:VEVENT
END:VCALENDAR