BEGIN:VCALENDAR
VERSION:2.0
PRODID:https://github.com/derhansen/sf_event_mgt
METHOD:PUBLISH
BEGIN:VEVENT
UID:1314-2154@www.ukr.de
CLASS: PUBLIC
SUMMARY:Kommunikation mit kognitiv eingeschrÃ¤nkten Menschen
DESCRIPTION:Die Kommunikation mit kognitiv eingeschrÃ¤nkten Patienten stell
 t nicht nur wÃ¤hrend des Krankenhausaufenthaltes eine besondere Herausford
 erung dar. In dieser Fortbildung erlernen Sie praxisnah Strategien, die de
 n Zugang und die Kommunikation erleichtern, und Ihnen die MÃ¶glichkeit geb
 en, sich auf die Welt der Betroffenen einzustellen. Inhalte sind: Grundwis
 sen zu den einzelnen Krankheitsbildern, allgemeine Kommunikationstechniken
 , Tipps und TÃ¼rÃ¶ffner im Umgang mit den Betroffenen, validierende GesprÃ
 ¤chstechniken und PrÃ¤vention zur Konfliktvermeidung.\n\n\n\nZielgruppe:\n
 \nAlle Interessierten\n\n\n\nKosten\n\nKeine (Mitarbeiter UKR)\n\n150,- Eu
 ro (externe Teilnehmer)\n\n\n\nTermin:\n\n28.04.2026\n\nHinweis: Diese Ver
 anstaltung wird mehrmals im Jahr angeboten.
DTSTAMP:20260112T072411Z
DTSTART:20260521T063000Z
DTEND:20260521T133000Z
END:VEVENT
END:VCALENDAR