BEGIN:VCALENDAR
VERSION:2.0
PRODID:https://github.com/derhansen/sf_event_mgt
METHOD:PUBLISH
BEGIN:VEVENT
UID:417-2154@www.ukr.de
CLASS: PUBLIC
SUMMARY:Kritische Beurteilungsgespräche führen
DESCRIPTION:Zu den Kernaufgaben eines Praxisanleiters gehören unter andere
 m Bewerten und Beurteilen. Beurteilungs-gespräche können vor allem in sc
 hwierigen Situationen hoch komplex werden. Menschlichkeit, Wahrnehmungsfil
 ter und soziale Wahrnehmungen haben Einfluss auf Bewertungen. Das Wissen d
 arüber ist für einen objektiven Beurteilungsprozess elementar. In diesem
  Seminar werden Ihnen verschiedene Heran- und Vorgehensweise zur Vermittlu
 ng objektiver Kritik erläutert.\n\nDie Teilnahme kann auf die seit 2020 g
 eltende Verpflichtung zu 24 Stunden berufspädagogischer Fortbildung für 
 Praxisanleiter angerechnet werden.\n\n\n\nZielgruppe: Praxisanleiter/Mento
 ren\n\n\n\nKosten: Keine (Mitarbeiter UKR) 150,- Euro (externe Teilnehmer)
 \n\nTermine:\n\n28.10.2026, 08:30 – 16:00 Uhr\n\n\n\nHinweis: Diese Vera
 nstaltung wird mehrmals im Jahr angeboten.
DTSTAMP:20251104T091650Z
DTSTART:20261028T073000Z
DTEND:20261028T150000Z
END:VEVENT
END:VCALENDAR