BEGIN:VCALENDAR
VERSION:2.0
PRODID:https://github.com/derhansen/sf_event_mgt
METHOD:PUBLISH
BEGIN:VEVENT
UID:1277-2154@www.ukr.de
CLASS: PUBLIC
SUMMARY:MH Kinaesthetics® – The Original, Aufbaukurs
DESCRIPTION:Im Aufbaukurs steht die Bewegung von Pflegenden im Zusammenspie
 l mit der Bewegung von Patienten im Vordergrund. Die Teilnehmer lernen, da
 s Konzeptsystem als Analysewerkzeug anzuwenden, um die individuellen Beweg
 ungsressourcen von Patienten mit Bewegungsproblemen zu erkennen und zu nut
 zen. Die eigene Bewegung ist der Schlüssel für Gesundheit, Lernen und Se
 lbstständigkeit: Menschen machen Fortschritte in ihrem Genesungsprozess, 
 wenn sie ihre Bewegung in allen alltäglichen Aktivitäten – wie klein d
 iese auch ist – aktiv einbringen können.\n\nZielgruppe:\n\nPflegefachkr
 äfte, Physiotherapeuten, medizinische Assistenzberufe, Pflegefachhelfer, 
 Ergotherapeuten, jeweils mit abgeschlossenem Grundkurs\n\nKosten:\n\n500,-
  Euro (externe Teilnehmer)\n\n\n\nHinweis zur Anmeldung:\n\nDer interne An
 meldeprozess für UKR Mitarbeitende ist gleichbleibend (keine einzelne Anm
 eldung über die Online-Anmeldung nötig). Als externer Interessent verwen
 den Sie für die Anmeldung bitte das beiliegende Formular.\n\nDiese Verans
 taltung wird mehrmals im Jahr angeboten.
DTSTAMP:20250930T132918Z
DTSTART:20260614T220000Z
DTEND:20260617T220000Z
END:VEVENT
END:VCALENDAR