BEGIN:VCALENDAR
VERSION:2.0
PRODID:https://github.com/derhansen/sf_event_mgt
METHOD:PUBLISH
BEGIN:VEVENT
UID:1272-2154@www.ukr.de
CLASS: PUBLIC
SUMMARY:MH Kinaesthetics® – The Original, Grundkurs
DESCRIPTION:Im Grundkurs steht die eigene Bewegung im Vordergrund. Die Teil
 nehmer bearbeiten die MH Kinaesthetics® Konzepte und lernen dadurch, Bewe
 gung in alltäglichen Aktivitäten aus verschiedenen Perspektiven zu erfah
 ren, zu verstehen und im Sinne der Gesundheitsentwicklung und Selbstständ
 igkeit aller Beteiligten anzupassen. Das wichtigste Lernziel ist es, die M
 enschen in ihren Bewegungsaktivitäten zu unterstützen, statt die Bewegun
 g zu übernehmen und damit Gewicht zu heben. Das schützt vor Überlastung
  sowie Verletzung und wirkt sich positiv auf die Gesundheitsprozesse aller
  Beteiligten aus.\n\nZielgruppe:\n\nPflegefachkräfte, Physiotherapeuten, 
 medizinische Assistenzberufe, Pflegefachhelfer, Ergotherapeuten\n\nKosten:
 \n\n450,- Euro (externe Teilnehmer)\n\nHinweis zur Anmeldung:\n\nDer inter
 ne Anmeldeprozess für UKR Mitarbeitende ist gleichbleibend (keine einzeln
 e Anmeldung über die Online-Anmeldung nötig). Als externer Interessent v
 erwenden Sie für die Anmeldung bitte das beiliegende Formular.\n\nDiese V
 eranstaltung wird mehrmals im Jahr angeboten.
DTSTAMP:20250930T132905Z
DTSTART:20260608T220000Z
DTEND:20260611T220000Z
END:VEVENT
END:VCALENDAR