BEGIN:VCALENDAR
VERSION:2.0
PRODID:https://github.com/derhansen/sf_event_mgt
METHOD:PUBLISH
BEGIN:VEVENT
UID:1304-2154@www.ukr.de
CLASS: PUBLIC
SUMMARY:Pädagogisches Training – Methodenkiste
DESCRIPTION:Didaktische und methodische Kompetenzen sind Grundlage in der P
 raxisanleitung. Anleitungsmethoden strukturieren Lernsituationen und helfe
 n dabei, die Lernziele zu erreichen. Die Wahl der richtigen Methode ist ni
 cht immer einfach. In diesem Seminar werden didaktische Aspekte der Anleit
 ung auf Grundlage Ihrer beruflichen Erfahrung reflektiert. Anhand konkrete
 r Beispiele aus der Praxis werden Anleitungssituationen evaluiert und krea
 tive Umsetzungsanregungen erarbeitet. Die Teilnahme kann auf die seit 2020
  geltende Verpflichtung zu 24 Stunden berufspädagogischer Fortbildung fü
 r Praxisanleiter angerechnet werden.\n\n\n\nZielgruppe\n\nPraxisanleiter/ 
 Mentoren\n\n\n\nKosten \n\nKeine (Mitarbeiter UKR)\n\n150,- Euro (externe
  Teilnehmer)\n\n\n\nTermine:\n\n11.06.2026, 08:30 – 16:00 Uhr\n\n\n\nHin
 weis: Diese Veranstaltung wird mehrmals im Jahr angeboten.
LOCATION:UKR, Seminarräume
DTSTAMP:20251104T091746Z
DTSTART:20260611T063000Z
DTEND:20260611T140000Z
END:VEVENT
END:VCALENDAR