BEGIN:VCALENDAR
VERSION:2.0
PRODID:https://github.com/derhansen/sf_event_mgt
METHOD:PUBLISH
BEGIN:VEVENT
UID:1292-2154@www.ukr.de
CLASS: PUBLIC
SUMMARY:Refresher – Kurs für Hygienebeauftragte Ärzte sowie Hygienebeauftragte in der Pflege
DESCRIPTION:In unserem Auffrischungskurs präsentieren wir Ihnen aktuelle T
 hemen aus dem Bereich Krankenhaushygiene und Infektionsprävention. Sie fr
 ischen an diesem Tag Ihr Wissen auf und diskutieren mit den Referenten, wi
 e Sie Ihren Aufgaben gerecht werden können.\n\nThemen in der Veranstaltun
 g:\n\n• Legionellen im Krankenhaus: wann wird aus Technik ein klinisches
  Problem? •Hygienische Aspekte bei der Beatmung •Infektionsrisiken dur
 ch Abwassersysteme •Prävention von ZVK-assoziierten Infektionen\n\n\n\n
 Zielgruppe:\n\nHygienebeauftragte Ärzte, Hygienebeauftragte in der Pflege
 \n\nKosten:\n\n25,- Euro\n\nVeranstaltungsort \n\nKHS (A0 4.14) \n\n\n\n
 Anerkennung durch die Bayerische Landesärztekammer erfolgt. Es werden CME
 -Punkte beantragt. Für Hygienefachpersonal sind lt. MedHygV Fortbildungsv
 eranstaltungen mindestens alle 2 Jahre verpflichtend. CNE-Punkte für Hygi
 enebeauftragte in der Pflege sind beantragt.\n\n\n\n
DTSTAMP:20260325T101514Z
DTSTART:20260722T220000Z
DTEND:20260722T220000Z
END:VEVENT
END:VCALENDAR