BEGIN:VCALENDAR
VERSION:2.0
PRODID:https://github.com/derhansen/sf_event_mgt
METHOD:PUBLISH
BEGIN:VEVENT
UID:1210-2179@www.ukr.de
CLASS: PUBLIC
SUMMARY:XVIII. Regensburger Tuberkulosetage
DESCRIPTION:Veranstalter / Wissenschaftliche Leitung Dr. Stefan Blaas Fachk
 linik Donaustauf Prof. Dr. Roland Diel, MPH Universitätsklinikum Schleswi
 g-Holstein Prof. Dr. med. Frank Hanses Universitätsklinikum Regensburg\n\
 n Veranstaltungsort Universitätsklinikum Regensburg Großer Hörsaal (Hau
 pteingang, 1. OG) Franz-Josef-Strauß-Allee 11 93053 Regensburg\n\n Organi
 sation Universitätsklinikum Regensburg K II Kongresse T: 0941 944-11627 F
 : 0941 944-31647 kongresse@ukr.de Die Veranstaltung ist bei der BLÄK zur 
 Zertifizierung angemeldet.
LOCATION:UKR, Großer Hörsaal (A, 1.OG)
DTSTAMP:20251125T105541Z
DTSTART:20251205T130000Z
DTEND:20251206T133000Z
END:VEVENT
END:VCALENDAR