BEGIN:VCALENDAR
VERSION:2.0
PRODID:https://github.com/derhansen/sf_event_mgt
METHOD:PUBLISH
BEGIN:VEVENT
UID:1306-2154@www.ukr.de
CLASS: PUBLIC
SUMMARY:Umgang mit PrÃ¼fungsangst
DESCRIPTION:Wer kennt es nicht? Die Angst vorm Versagen ist meistens schlim
 mer als das Scheitern selbst. Dieses Seminar bietet eine fundierte EinfÃ¼h
 rung in die Ursachen, Symptome und BewÃ¤ltigungsstrategien im Kontext von 
 PrÃ¼fungsangst. Die Teilnehmer erfahren, wie sie z.B. Anzuleitende im Vorf
 eld von PrÃ¼fungen optimal unterstÃ¼tzen kÃ¶nnen. Neben theoretischen Inha
 lten liegt der Fokus auf praktische Ãœbungen und Techniken, die direkt in 
 den Arbeitsalltag integriert werden kÃ¶nnen. Die Teilnahme kann auf die jÃ
 ¤hrliche geltende Verpflichtung zu 24 Stunden berufspÃ¤dagogischer Fortbil
 dung fÃ¼r Praxisanleiter angerechnet werden.\n\n\n\nZielgruppe:\n\nPraxisa
 nleiter/ Mentoren\n\n\n\nKosten:\n\nKeine (Mitarbeiter UKR)\n\n150,- EuroÂ
   (externe Teilnehmer)\n\n\n\nTermine:\n\n30.09.2026Â Â 08:30 â€“ 16:00 Uh
 r
LOCATION:UKR, SeminarrÃ¤ume
DTSTAMP:20251104T091839Z
DTSTART:20260930T063000Z
DTEND:20260930T140000Z
END:VEVENT
END:VCALENDAR